BEGIN:VCALENDAR
VERSION:2.0
PRODID:-//French International School of Hong Kong - IB World School - ECPv6.6.4.2//NONSGML v1.0//EN
CALSCALE:GREGORIAN
METHOD:PUBLISH
X-WR-CALNAME:French International School of Hong Kong - IB World School
X-ORIGINAL-URL:https://www.fis.edu.hk
X-WR-CALDESC:Events for French International School of Hong Kong - IB World School
REFRESH-INTERVAL;VALUE=DURATION:PT1H
X-Robots-Tag:noindex
X-PUBLISHED-TTL:PT1H
BEGIN:VTIMEZONE
TZID:Asia/Shanghai
BEGIN:STANDARD
TZOFFSETFROM:+0800
TZOFFSETTO:+0800
TZNAME:CST
DTSTART:20240101T000000
END:STANDARD
END:VTIMEZONE
BEGIN:VEVENT
DTSTART;TZID=Asia/Shanghai:20240608T120000
DTEND;TZID=Asia/Shanghai:20240608T180000
DTSTAMP:20260422T234328
CREATED:20240508T065311Z
LAST-MODIFIED:20240508T065311Z
UID:10000068-1717848000-1717869600@www.fis.edu.hk
SUMMARY:Living Books
DESCRIPTION:Experience the magic of literature brought to life by the talented members of the FIS community! Join us on Saturdays and Sundays in May and June\, from 12 PM to 6 PM\, at the captivating French May event held at PMQ\, 5/F\, Taste Library\, 35 Aberdeen Street\, Central. \nCome and be part of this wonderful showcase of recitations in English\, French\, and German\, as students\, teachers\, and parents share their favorite books that they have meticulously memorized. Show your support by attending and let them enchant you with their heartfelt performances. \nReservation is recommended: https://www.afhongkong.org/ \nProgram: \n\nSATURDAY\, MAY 11\, from 12 NN to 3 PM:\n\nNaomi Benhamou | The Hunger Games by Suzanne Collins | English\nSuzanne Doumenc | Les Royaumes du Nord by Phillip Pullman | French\nJC Koum | JC Koum\, English poetry | English\nAlice Rensy | Moby Dick by Herman Melville | French \n\nSATURDAY\, MAY 11\, from 3 PM to 6 PM:\n\nHeidi Baron-Jiang | Tschick by Wolfgang Herrndorf | German\nSvetlana Bouev Dombre | Les Quatre filles du docteur March by Louisa May Alcott | French\nNil Charbonneau | Rroû by Maurice Genevoix | French\nCéleste Lee | Harry Potter à l’école des sorciers by J.K. Rowling | French\nAlice Rensy | Moby Dick by Herman Melville | French \n\nSATURDAY\, MAY 18\, from 3 PM to 6 PM:\n\nHeidi Baron-Jiang | Tschick by Wolfgang Herrndorf | German\nSvetlana Bouev Dombre | Les Quatre filles du docteur March by Louisa May Alcott | French\nNil Charbonneau | Rroû by Maurice Genevoix | French\nEmilie Foster | Un Coeur simple by Gustave Flaubert | French\nCaroline Ha Thuc | Que ma joie demeure by Jean Giono | French\nJoel Kwong | | Cantonese\nAlice Rensy | Moby Dick by Herman Melville | French \n\nSATURDAY\, MAY 25\, from 12 NN to 3 PM:\n\nJC Koum | JC Koum\, English poetry | English\nAlice Rensy | Moby Dick by Herman Melville | French \n\nSATURDAY\, JUNE 1\, from 12 NN to 3 PM:\n\nNaomi Benhamou | The Hunger Games by Suzanne Collins | English\nSuzanne Doumenc | Les Royaumes du Nord by Phillip Pullman | French\nAlice Rensy | Moby Dick by Herman Melville | French \n\nSATURDAY\, JUNE 1\, from 3 PM to 6 PM:\n\nHeidi Baron-Jiang | Tschick by Wolfgang Herrndorf | German\nDaniel Cabane | Le K by Dino Buzzati | French\nRose Chupin | The Picture of Dorian Gray by Oscar Wilde | English\nEmilie Foster | Un Coeur simple by Gustave Flaubert | French\nCaroline Ha Thuc | Que ma joie demeure by Jean Giono | French\nJoel Kwong | | Cantonese\nAlice Rensy | Moby Dick by Herman Melville | French \n\nSUNDAY\, JUNE 2\, from 3 PM to 6 PM:\n\nMarc Laurent | Les Âmes fortes by Jean Giono | French\nAlice Rensy | Moby Dick by Herman Melville | French \n\nSATURDAY\, JUNE 8\, from 12 NN to 3 PM:\n\nSuzanne Doumenc | Les Royaumes du Nord by Phillip Pullman | French\nAlice Rensy | Moby Dick by Herman Melville | French \n\nSUNDAY\, JUNE 8\, from 3 PM to 6 PM:\n\nHeidi Baron-Jiang | Tschick by Wolfgang Herrndorf | German\nEmilie Foster | Un Coeur simple by Gustave Flaubert | French\nAlice Rensy | Moby Dick by Herman Melville | French
URL:https://www.fis.edu.hk/event/living-books-6/
LOCATION:Taste Library\, PMQ\, Taste Library\, 5th floor\, H504\, PMQ\, G/F and galleries \, Aberdeen Street\, Central\, Hong Kong
ATTACH;FMTTYPE=image/jpeg:https://www.fis.edu.hk/wp-content/uploads/2024/05/12.jpg
END:VEVENT
BEGIN:VEVENT
DTSTART;TZID=Asia/Shanghai:20240602T150000
DTEND;TZID=Asia/Shanghai:20240602T180000
DTSTAMP:20260422T234328
CREATED:20240508T065131Z
LAST-MODIFIED:20240508T065131Z
UID:10000067-1717340400-1717351200@www.fis.edu.hk
SUMMARY:Living Books
DESCRIPTION:Experience the magic of literature brought to life by the talented members of the FIS community! Join us on Saturdays and Sundays in May and June\, from 12 PM to 6 PM\, at the captivating French May event held at PMQ\, 5/F\, Taste Library\, 35 Aberdeen Street\, Central. \nCome and be part of this wonderful showcase of recitations in English\, French\, and German\, as students\, teachers\, and parents share their favorite books that they have meticulously memorized. Show your support by attending and let them enchant you with their heartfelt performances. \nReservation is recommended: https://www.afhongkong.org/ \nProgram: \n\nSATURDAY\, MAY 11\, from 12 NN to 3 PM:\n\nNaomi Benhamou | The Hunger Games by Suzanne Collins | English\nSuzanne Doumenc | Les Royaumes du Nord by Phillip Pullman | French\nJC Koum | JC Koum\, English poetry | English\nAlice Rensy | Moby Dick by Herman Melville | French \n\nSATURDAY\, MAY 11\, from 3 PM to 6 PM:\n\nHeidi Baron-Jiang | Tschick by Wolfgang Herrndorf | German\nSvetlana Bouev Dombre | Les Quatre filles du docteur March by Louisa May Alcott | French\nNil Charbonneau | Rroû by Maurice Genevoix | French\nCéleste Lee | Harry Potter à l’école des sorciers by J.K. Rowling | French\nAlice Rensy | Moby Dick by Herman Melville | French \n\nSATURDAY\, MAY 18\, from 3 PM to 6 PM:\n\nHeidi Baron-Jiang | Tschick by Wolfgang Herrndorf | German\nSvetlana Bouev Dombre | Les Quatre filles du docteur March by Louisa May Alcott | French\nNil Charbonneau | Rroû by Maurice Genevoix | French\nEmilie Foster | Un Coeur simple by Gustave Flaubert | French\nCaroline Ha Thuc | Que ma joie demeure by Jean Giono | French\nJoel Kwong | | Cantonese\nAlice Rensy | Moby Dick by Herman Melville | French \n\nSATURDAY\, MAY 25\, from 12 NN to 3 PM:\n\nJC Koum | JC Koum\, English poetry | English\nAlice Rensy | Moby Dick by Herman Melville | French \n\nSATURDAY\, JUNE 1\, from 12 NN to 3 PM:\n\nNaomi Benhamou | The Hunger Games by Suzanne Collins | English\nSuzanne Doumenc | Les Royaumes du Nord by Phillip Pullman | French\nAlice Rensy | Moby Dick by Herman Melville | French \n\nSATURDAY\, JUNE 1\, from 3 PM to 6 PM:\n\nHeidi Baron-Jiang | Tschick by Wolfgang Herrndorf | German\nDaniel Cabane | Le K by Dino Buzzati | French\nRose Chupin | The Picture of Dorian Gray by Oscar Wilde | English\nEmilie Foster | Un Coeur simple by Gustave Flaubert | French\nCaroline Ha Thuc | Que ma joie demeure by Jean Giono | French\nJoel Kwong | | Cantonese\nAlice Rensy | Moby Dick by Herman Melville | French \n\nSUNDAY\, JUNE 2\, from 3 PM to 6 PM:\n\nMarc Laurent | Les Âmes fortes by Jean Giono | French\nAlice Rensy | Moby Dick by Herman Melville | French \n\nSATURDAY\, JUNE 8\, from 12 NN to 3 PM:\n\nSuzanne Doumenc | Les Royaumes du Nord by Phillip Pullman | French\nAlice Rensy | Moby Dick by Herman Melville | French \n\nSUNDAY\, JUNE 8\, from 3 PM to 6 PM:\n\nHeidi Baron-Jiang | Tschick by Wolfgang Herrndorf | German\nEmilie Foster | Un Coeur simple by Gustave Flaubert | French\nAlice Rensy | Moby Dick by Herman Melville | French
URL:https://www.fis.edu.hk/event/living-books-5/
LOCATION:Taste Library\, PMQ\, Taste Library\, 5th floor\, H504\, PMQ\, G/F and galleries \, Aberdeen Street\, Central\, Hong Kong
ATTACH;FMTTYPE=image/jpeg:https://www.fis.edu.hk/wp-content/uploads/2024/05/12.jpg
END:VEVENT
BEGIN:VEVENT
DTSTART;TZID=Asia/Shanghai:20240601T120000
DTEND;TZID=Asia/Shanghai:20240601T180000
DTSTAMP:20260422T234328
CREATED:20240508T064656Z
LAST-MODIFIED:20240508T064656Z
UID:10000065-1717243200-1717264800@www.fis.edu.hk
SUMMARY:Living Books
DESCRIPTION:Experience the magic of literature brought to life by the talented members of the FIS community! Join us on Saturdays and Sundays in May and June\, from 12 PM to 6 PM\, at the captivating French May event held at PMQ\, 5/F\, Taste Library\, 35 Aberdeen Street\, Central. \nCome and be part of this wonderful showcase of recitations in English\, French\, and German\, as students\, teachers\, and parents share their favorite books that they have meticulously memorized. Show your support by attending and let them enchant you with their heartfelt performances. \nReservation is recommended: https://www.afhongkong.org/ \nProgram: \n\nSATURDAY\, MAY 11\, from 12 NN to 3 PM:\n\nNaomi Benhamou | The Hunger Games by Suzanne Collins | English\nSuzanne Doumenc | Les Royaumes du Nord by Phillip Pullman | French\nJC Koum | JC Koum\, English poetry | English\nAlice Rensy | Moby Dick by Herman Melville | French \n\nSATURDAY\, MAY 11\, from 3 PM to 6 PM:\n\nHeidi Baron-Jiang | Tschick by Wolfgang Herrndorf | German\nSvetlana Bouev Dombre | Les Quatre filles du docteur March by Louisa May Alcott | French\nNil Charbonneau | Rroû by Maurice Genevoix | French\nCéleste Lee | Harry Potter à l’école des sorciers by J.K. Rowling | French\nAlice Rensy | Moby Dick by Herman Melville | French \n\nSATURDAY\, MAY 18\, from 3 PM to 6 PM:\n\nHeidi Baron-Jiang | Tschick by Wolfgang Herrndorf | German\nSvetlana Bouev Dombre | Les Quatre filles du docteur March by Louisa May Alcott | French\nNil Charbonneau | Rroû by Maurice Genevoix | French\nEmilie Foster | Un Coeur simple by Gustave Flaubert | French\nCaroline Ha Thuc | Que ma joie demeure by Jean Giono | French\nJoel Kwong | | Cantonese\nAlice Rensy | Moby Dick by Herman Melville | French \n\nSATURDAY\, MAY 25\, from 12 NN to 3 PM:\n\nJC Koum | JC Koum\, English poetry | English\nAlice Rensy | Moby Dick by Herman Melville | French \n\nSATURDAY\, JUNE 1\, from 12 NN to 3 PM:\n\nNaomi Benhamou | The Hunger Games by Suzanne Collins | English\nSuzanne Doumenc | Les Royaumes du Nord by Phillip Pullman | French\nAlice Rensy | Moby Dick by Herman Melville | French \n\nSATURDAY\, JUNE 1\, from 3 PM to 6 PM:\n\nHeidi Baron-Jiang | Tschick by Wolfgang Herrndorf | German\nDaniel Cabane | Le K by Dino Buzzati | French\nRose Chupin | The Picture of Dorian Gray by Oscar Wilde | English\nEmilie Foster | Un Coeur simple by Gustave Flaubert | French\nCaroline Ha Thuc | Que ma joie demeure by Jean Giono | French\nJoel Kwong | | Cantonese\nAlice Rensy | Moby Dick by Herman Melville | French \n\nSUNDAY\, JUNE 2\, from 3 PM to 6 PM:\n\nMarc Laurent | Les Âmes fortes by Jean Giono | French\nAlice Rensy | Moby Dick by Herman Melville | French \n\nSATURDAY\, JUNE 8\, from 12 NN to 3 PM:\n\nSuzanne Doumenc | Les Royaumes du Nord by Phillip Pullman | French\nAlice Rensy | Moby Dick by Herman Melville | French \n\nSUNDAY\, JUNE 8\, from 3 PM to 6 PM:\n\nHeidi Baron-Jiang | Tschick by Wolfgang Herrndorf | German\nEmilie Foster | Un Coeur simple by Gustave Flaubert | French\nAlice Rensy | Moby Dick by Herman Melville | French
URL:https://www.fis.edu.hk/event/living-books-4/
LOCATION:Taste Library\, PMQ\, Taste Library\, 5th floor\, H504\, PMQ\, G/F and galleries \, Aberdeen Street\, Central\, Hong Kong
ATTACH;FMTTYPE=image/jpeg:https://www.fis.edu.hk/wp-content/uploads/2024/05/12.jpg
END:VEVENT
BEGIN:VEVENT
DTSTART;TZID=Asia/Shanghai:20240525T120000
DTEND;TZID=Asia/Shanghai:20240525T180000
DTSTAMP:20260422T234328
CREATED:20240507T052454Z
LAST-MODIFIED:20240508T064144Z
UID:10000061-1716638400-1716660000@www.fis.edu.hk
SUMMARY:Living Books
DESCRIPTION:Experience the magic of literature brought to life by the talented members of the FIS community! Join us on Saturdays and Sundays in May and June\, from 12 PM to 6 PM\, at the captivating French May event held at PMQ\, 5/F\, Taste Library\, 35 Aberdeen Street\, Central. \nCome and be part of this wonderful showcase of recitations in English\, French\, and German\, as students\, teachers\, and parents share their favorite books that they have meticulously memorized. Show your support by attending and let them enchant you with their heartfelt performances. \nReservation is recommended: https://www.afhongkong.org/ \nProgram: \n\nSATURDAY\, MAY 11\, from 12 NN to 3 PM:\n\nNaomi Benhamou | The Hunger Games by Suzanne Collins | English\nSuzanne Doumenc | Les Royaumes du Nord by Phillip Pullman | French\nJC Koum | JC Koum\, English poetry | English\nAlice Rensy | Moby Dick by Herman Melville | French \n\nSATURDAY\, MAY 11\, from 3 PM to 6 PM:\n\nHeidi Baron-Jiang | Tschick by Wolfgang Herrndorf | German\nSvetlana Bouev Dombre | Les Quatre filles du docteur March by Louisa May Alcott | French\nNil Charbonneau | Rroû by Maurice Genevoix | French\nCéleste Lee | Harry Potter à l’école des sorciers by J.K. Rowling | French\nAlice Rensy | Moby Dick by Herman Melville | French \n\nSATURDAY\, MAY 18\, from 3 PM to 6 PM:\n\nHeidi Baron-Jiang | Tschick by Wolfgang Herrndorf | German\nSvetlana Bouev Dombre | Les Quatre filles du docteur March by Louisa May Alcott | French\nNil Charbonneau | Rroû by Maurice Genevoix | French\nEmilie Foster | Un Coeur simple by Gustave Flaubert | French\nCaroline Ha Thuc | Que ma joie demeure by Jean Giono | French\nJoel Kwong | | Cantonese\nAlice Rensy | Moby Dick by Herman Melville | French \n\nSATURDAY\, MAY 25\, from 12 NN to 3 PM:\n\nJC Koum | JC Koum\, English poetry | English\nAlice Rensy | Moby Dick by Herman Melville | French \n\nSATURDAY\, JUNE 1\, from 12 NN to 3 PM:\n\nNaomi Benhamou | The Hunger Games by Suzanne Collins | English\nSuzanne Doumenc | Les Royaumes du Nord by Phillip Pullman | French\nAlice Rensy | Moby Dick by Herman Melville | French \n\nSATURDAY\, JUNE 1\, from 3 PM to 6 PM:\n\nHeidi Baron-Jiang | Tschick by Wolfgang Herrndorf | German\nDaniel Cabane | Le K by Dino Buzzati | French\nRose Chupin | The Picture of Dorian Gray by Oscar Wilde | English\nEmilie Foster | Un Coeur simple by Gustave Flaubert | French\nCaroline Ha Thuc | Que ma joie demeure by Jean Giono | French\nJoel Kwong | | Cantonese\nAlice Rensy | Moby Dick by Herman Melville | French \n\nSUNDAY\, JUNE 2\, from 3 PM to 6 PM:\n\nMarc Laurent | Les Âmes fortes by Jean Giono | French\nAlice Rensy | Moby Dick by Herman Melville | French \n\nSATURDAY\, JUNE 8\, from 12 NN to 3 PM:\n\nSuzanne Doumenc | Les Royaumes du Nord by Phillip Pullman | French\nAlice Rensy | Moby Dick by Herman Melville | French \n\nSUNDAY\, JUNE 8\, from 3 PM to 6 PM:\n\nHeidi Baron-Jiang | Tschick by Wolfgang Herrndorf | German\nEmilie Foster | Un Coeur simple by Gustave Flaubert | French\nAlice Rensy | Moby Dick by Herman Melville | French
URL:https://www.fis.edu.hk/event/living-books-2/
LOCATION:Taste Library\, PMQ\, Taste Library\, 5th floor\, H504\, PMQ\, G/F and galleries \, Aberdeen Street\, Central\, Hong Kong
ATTACH;FMTTYPE=image/jpeg:https://www.fis.edu.hk/wp-content/uploads/2024/05/12.jpg
END:VEVENT
BEGIN:VEVENT
DTSTART;TZID=Asia/Shanghai:20240518T150000
DTEND;TZID=Asia/Shanghai:20240518T180000
DTSTAMP:20260422T234328
CREATED:20240507T054337Z
LAST-MODIFIED:20240508T064504Z
UID:10000063-1716044400-1716055200@www.fis.edu.hk
SUMMARY:Living Books
DESCRIPTION:Experience the magic of literature brought to life by the talented members of the FIS community! Join us on Saturdays and Sundays in May and June\, from 12 PM to 6 PM\, at the captivating French May event held at PMQ\, 5/F\, Taste Library\, 35 Aberdeen Street\, Central. \nCome and be part of this wonderful showcase of recitations in English\, French\, and German\, as students\, teachers\, and parents share their favorite books that they have meticulously memorized. Show your support by attending and let them enchant you with their heartfelt performances. \nReservation is recommended: https://www.afhongkong.org/ \nProgram: \n\nSATURDAY\, MAY 11\, from 12 NN to 3 PM:\n\nNaomi Benhamou | The Hunger Games by Suzanne Collins | English\nSuzanne Doumenc | Les Royaumes du Nord by Phillip Pullman | French\nJC Koum | JC Koum\, English poetry | English\nAlice Rensy | Moby Dick by Herman Melville | French \n\nSATURDAY\, MAY 11\, from 3 PM to 6 PM:\n\nHeidi Baron-Jiang | Tschick by Wolfgang Herrndorf | German\nSvetlana Bouev Dombre | Les Quatre filles du docteur March by Louisa May Alcott | French\nNil Charbonneau | Rroû by Maurice Genevoix | French\nCéleste Lee | Harry Potter à l’école des sorciers by J.K. Rowling | French\nAlice Rensy | Moby Dick by Herman Melville | French \n\nSATURDAY\, MAY 18\, from 3 PM to 6 PM:\n\nHeidi Baron-Jiang | Tschick by Wolfgang Herrndorf | German\nSvetlana Bouev Dombre | Les Quatre filles du docteur March by Louisa May Alcott | French\nNil Charbonneau | Rroû by Maurice Genevoix | French\nEmilie Foster | Un Coeur simple by Gustave Flaubert | French\nCaroline Ha Thuc | Que ma joie demeure by Jean Giono | French\nJoel Kwong | | Cantonese\nAlice Rensy | Moby Dick by Herman Melville | French \n\nSATURDAY\, MAY 25\, from 12 NN to 3 PM:\n\nJC Koum | JC Koum\, English poetry | English\nAlice Rensy | Moby Dick by Herman Melville | French \n\nSATURDAY\, JUNE 1\, from 12 NN to 3 PM:\n\nNaomi Benhamou | The Hunger Games by Suzanne Collins | English\nSuzanne Doumenc | Les Royaumes du Nord by Phillip Pullman | French\nAlice Rensy | Moby Dick by Herman Melville | French \n\nSATURDAY\, JUNE 1\, from 3 PM to 6 PM:\n\nHeidi Baron-Jiang | Tschick by Wolfgang Herrndorf | German\nDaniel Cabane | Le K by Dino Buzzati | French\nRose Chupin | The Picture of Dorian Gray by Oscar Wilde | English\nEmilie Foster | Un Coeur simple by Gustave Flaubert | French\nCaroline Ha Thuc | Que ma joie demeure by Jean Giono | French\nJoel Kwong | | Cantonese\nAlice Rensy | Moby Dick by Herman Melville | French \n\nSUNDAY\, JUNE 2\, from 3 PM to 6 PM:\n\nMarc Laurent | Les Âmes fortes by Jean Giono | French\nAlice Rensy | Moby Dick by Herman Melville | French \n\nSATURDAY\, JUNE 8\, from 12 NN to 3 PM:\n\nSuzanne Doumenc | Les Royaumes du Nord by Phillip Pullman | French\nAlice Rensy | Moby Dick by Herman Melville | French \n\nSUNDAY\, JUNE 8\, from 3 PM to 6 PM:\n\nHeidi Baron-Jiang | Tschick by Wolfgang Herrndorf | German\nEmilie Foster | Un Coeur simple by Gustave Flaubert | French\nAlice Rensy | Moby Dick by Herman Melville | French
URL:https://www.fis.edu.hk/event/living-books-3/
LOCATION:Taste Library\, PMQ\, Taste Library\, 5th floor\, H504\, PMQ\, G/F and galleries \, Aberdeen Street\, Central\, Hong Kong
ATTACH;FMTTYPE=image/jpeg:https://www.fis.edu.hk/wp-content/uploads/2024/05/12.jpg
END:VEVENT
BEGIN:VEVENT
DTSTART;TZID=Asia/Shanghai:20240511T120000
DTEND;TZID=Asia/Shanghai:20240511T180000
DTSTAMP:20260422T234328
CREATED:20240507T043311Z
LAST-MODIFIED:20240508T064424Z
UID:10000059-1715428800-1715450400@www.fis.edu.hk
SUMMARY:Living Books
DESCRIPTION:Experience the magic of literature brought to life by the talented members of the FIS community! Join us on Saturdays and Sundays in May and June\, from 12 PM to 6 PM\, at the captivating French May event held at PMQ\, 5/F\, Taste Library\, 35 Aberdeen Street\, Central. \nCome and be part of this wonderful showcase of recitations in English\, French\, and German\, as students\, teachers\, and parents share their favorite books that they have meticulously memorized. Show your support by attending and let them enchant you with their heartfelt performances. \nReservation is recommended: https://www.afhongkong.org/ \nProgram: \n\nSATURDAY\, MAY 11\, from 12 NN to 3 PM:\n\nNaomi Benhamou | The Hunger Games by Suzanne Collins | English\nSuzanne Doumenc | Les Royaumes du Nord by Phillip Pullman | French\nJC Koum | JC Koum\, English poetry | English\nAlice Rensy | Moby Dick by Herman Melville | French \n\nSATURDAY\, MAY 11\, from 3 PM to 6 PM:\n\nHeidi Baron-Jiang | Tschick by Wolfgang Herrndorf | German\nSvetlana Bouev Dombre | Les Quatre filles du docteur March by Louisa May Alcott | French\nNil Charbonneau | Rroû by Maurice Genevoix | French\nCéleste Lee | Harry Potter à l’école des sorciers by J.K. Rowling | French\nAlice Rensy | Moby Dick by Herman Melville | French \n\nSATURDAY\, MAY 18\, from 3 PM to 6 PM:\n\nHeidi Baron-Jiang | Tschick by Wolfgang Herrndorf | German\nSvetlana Bouev Dombre | Les Quatre filles du docteur March by Louisa May Alcott | French\nNil Charbonneau | Rroû by Maurice Genevoix | French\nEmilie Foster | Un Coeur simple by Gustave Flaubert | French\nCaroline Ha Thuc | Que ma joie demeure by Jean Giono | French\nJoel Kwong | | Cantonese\nAlice Rensy | Moby Dick by Herman Melville | French \n\nSATURDAY\, MAY 25\, from 12 NN to 3 PM:\n\nJC Koum | JC Koum\, English poetry | English\nAlice Rensy | Moby Dick by Herman Melville | French \n\nSATURDAY\, JUNE 1\, from 12 NN to 3 PM:\n\nNaomi Benhamou | The Hunger Games by Suzanne Collins | English\nSuzanne Doumenc | Les Royaumes du Nord by Phillip Pullman | French\nAlice Rensy | Moby Dick by Herman Melville | French \n\nSATURDAY\, JUNE 1\, from 3 PM to 6 PM:\n\nHeidi Baron-Jiang | Tschick by Wolfgang Herrndorf | German\nDaniel Cabane | Le K by Dino Buzzati | French\nRose Chupin | The Picture of Dorian Gray by Oscar Wilde | English\nEmilie Foster | Un Coeur simple by Gustave Flaubert | French\nCaroline Ha Thuc | Que ma joie demeure by Jean Giono | French\nJoel Kwong | | Cantonese\nAlice Rensy | Moby Dick by Herman Melville | French \n\nSUNDAY\, JUNE 2\, from 3 PM to 6 PM:\n\nMarc Laurent | Les Âmes fortes by Jean Giono | French\nAlice Rensy | Moby Dick by Herman Melville | French \n\nSATURDAY\, JUNE 8\, from 12 NN to 3 PM:\n\nSuzanne Doumenc | Les Royaumes du Nord by Phillip Pullman | French\nAlice Rensy | Moby Dick by Herman Melville | French \n\nSUNDAY\, JUNE 8\, from 3 PM to 6 PM:\n\nHeidi Baron-Jiang | Tschick by Wolfgang Herrndorf | German\nEmilie Foster | Un Coeur simple by Gustave Flaubert | French\nAlice Rensy | Moby Dick by Herman Melville | French
URL:https://www.fis.edu.hk/event/living-books/
LOCATION:Taste Library\, PMQ\, Taste Library\, 5th floor\, H504\, PMQ\, G/F and galleries \, Aberdeen Street\, Central\, Hong Kong
ATTACH;FMTTYPE=image/jpeg:https://www.fis.edu.hk/wp-content/uploads/2024/05/12.jpg
END:VEVENT
END:VCALENDAR