BEGIN:VCALENDAR
VERSION:2.0
PRODID:-//French International School of Hong Kong - IB World School - ECPv6.6.4.2//NONSGML v1.0//EN
CALSCALE:GREGORIAN
METHOD:PUBLISH
X-WR-CALNAME:French International School of Hong Kong - IB World School
X-ORIGINAL-URL:https://www.fis.edu.hk
X-WR-CALDESC:Events for French International School of Hong Kong - IB World School
REFRESH-INTERVAL;VALUE=DURATION:PT1H
X-Robots-Tag:noindex
X-PUBLISHED-TTL:PT1H
BEGIN:VTIMEZONE
TZID:Asia/Hong_Kong
BEGIN:STANDARD
TZOFFSETFROM:+0800
TZOFFSETTO:+0800
TZNAME:HKT
DTSTART:20250101T000000
END:STANDARD
END:VTIMEZONE
BEGIN:VEVENT
DTSTART;TZID=Asia/Hong_Kong:20250218T090000
DTEND;TZID=Asia/Hong_Kong:20250218T100000
DTSTAMP:20260423T185722
CREATED:20241126T164342Z
LAST-MODIFIED:20250217T185841Z
UID:10000130-1739869200-1739872800@www.fis.edu.hk
SUMMARY:Available JL tour
DESCRIPTION:Join with Google Meet: https://meet.google.com/avm-ivdt-syk\nLearn more about Meet at: https://support.google.com/a/users/answer/9282720
URL:https://www.fis.edu.hk/event/available-jl-tour-4/
CATEGORIES:JL Campus Tours
END:VEVENT
BEGIN:VEVENT
DTSTART;TZID=Asia/Hong_Kong:20250218T090000
DTEND;TZID=Asia/Hong_Kong:20250218T100000
DTSTAMP:20260423T185722
CREATED:20241126T164343Z
LAST-MODIFIED:20241126T164343Z
UID:10000132-1739869200-1739872800@www.fis.edu.hk
SUMMARY:Available JL tour
DESCRIPTION:Join with Google Meet: https://meet.google.com/avm-ivdt-syk\nLearn more about Meet at: https://support.google.com/a/users/answer/9282720
URL:https://www.fis.edu.hk/event/available-jl-tour-6/
CATEGORIES:JL Campus Tours
END:VEVENT
END:VCALENDAR